BEGIN:VCALENDAR
VERSION:2.0
PRODID:SchoolNow
CALSCALE:GREGORIAN
BEGIN:VEVENT
UID:d3cf3246-9189-11ef-8748-0affecba3ffd
DTSTAMP:20241023T220048Z
SUMMARY:Free Covid Tests for Pickup only
LOCATION:Steel Valley School District
URL;VALUE=URI:https://www.steelvalleysd.org/communication/calendar/6884847/
 covid-tests-for-pickup-only-available-to-anyone-and-everyone-in-community
DTSTART:20241023T180000Z
DTEND:20241025T190000Z
END:VEVENT
END:VCALENDAR
