BEGIN:VCALENDAR
VERSION:2.0
PRODID:SchoolNow
CALSCALE:GREGORIAN
BEGIN:VEVENT
UID:b4f892a8-87d0-11ef-8306-0affe351a63f
DTSTAMP:20241011T125953Z
SUMMARY:The Salvation Army's Seasonal Assistant
URL;VALUE=URI:https://www.steelvalleysd.org/communication/calendar/6803474/
 the-salvation-armys-seasonal-assistant
DTSTART:20241104T050000Z
DTEND:20241108T211500Z
END:VEVENT
END:VCALENDAR
