BEGIN:VCALENDAR
VERSION:2.0
PRODID:SchoolNow
CALSCALE:GREGORIAN
BEGIN:VEVENT
UID:a4aabb38-8672-11ef-8cb2-0a58a9feac02
DTSTAMP:20241009T191611Z
SUMMARY:Put The Fun In Fundraising at Dave & Busters
URL;VALUE=URI:https://www.steelvalleysd.org/communication/calendar/6791108/
 put-the-fun-in-fundraising-at-dave-busters
DTSTART:20241010T190000Z
DTEND:20241011T040000Z
END:VEVENT
END:VCALENDAR
