BEGIN:VCALENDAR
VERSION:2.0
PRODID:SchoolNow
CALSCALE:GREGORIAN
BEGIN:VEVENT
UID:4f7411da-84df-11ef-8fe0-0a58a9feac02
DTSTAMP:20241007T190651Z
SUMMARY:SemiFormal 2025 Tickets On Sale
LOCATION:Steel Valley High School
URL;VALUE=URI:https://www.steelvalleysd.org/communication/calendar/6776867/
 semiformal-2025-tickets-on-sale
DTSTART:20241203T130300Z
DTEND:20241206T210300Z
END:VEVENT
END:VCALENDAR
