BEGIN:VCALENDAR
VERSION:2.0
PRODID:SchoolNow
CALSCALE:GREGORIAN
BEGIN:VEVENT
UID:77e0c4fa-7c4d-11ef-b2db-0a58a9feac02
DTSTAMP:20240926T212243Z
SUMMARY:No School for Students
LOCATION:Steel Valley School District
URL;VALUE=URI:https://www.steelvalleysd.org/communication/calendar/6697422/
 clerical-day-no-school-for-students-clone
DTSTART;VALUE=DATE:20241028
DTEND;VALUE=DATE:20241029
END:VEVENT
END:VCALENDAR
