BEGIN:VCALENDAR
VERSION:2.0
PRODID:SchoolNow
CALSCALE:GREGORIAN
BEGIN:VEVENT
UID:eaea0c24-7b42-11ef-a4d0-0a58a9feac02
DTSTAMP:20240927T170924Z
SUMMARY:Veteran's Day Assembly - Barrett Elementary
LOCATION:Barrett Elementary
URL;VALUE=URI:https://www.steelvalleysd.org/communication/calendar/6687296/
 veterans-day-assembly
DTSTART:20241118T143000Z
DTEND:20241118T153000Z
END:VEVENT
END:VCALENDAR
