BEGIN:VCALENDAR
VERSION:2.0
PRODID:SchoolNow
CALSCALE:GREGORIAN
BEGIN:VEVENT
UID:bf70c6a8-7ab8-11ef-bc79-0affc335a76f
DTSTAMP:20240927T170748Z
SUMMARY:Veteran's Day Assembly - Middle/High School
LOCATION:SV Middle School/High School
URL;VALUE=URI:https://www.steelvalleysd.org/communication/calendar/6681299/
 veterans-day-assembly-middle-high-school
DTSTART:20241115T120000Z
DTEND:20241115T210000Z
END:VEVENT
END:VCALENDAR
