BEGIN:VCALENDAR
VERSION:2.0
PRODID:SchoolNow
CALSCALE:GREGORIAN
BEGIN:VEVENT
UID:7d1256d4-6a5d-11ef-938e-0e2e5f6d3f31
DTSTAMP:20240904T013203Z
SUMMARY:SV Student Council Blood Drive
LOCATION:High School Gymnasium
URL;VALUE=URI:https://www.steelvalleysd.org/communication/calendar/6517925/
 sv-student-council-blood-drive
DTSTART:20240926T120000Z
DTEND:20240926T170000Z
END:VEVENT
END:VCALENDAR
