BEGIN:VCALENDAR
VERSION:2.0
PRODID:SchoolNow
CALSCALE:GREGORIAN
BEGIN:VEVENT
UID:031624d4-6a5b-11ef-8853-02dea9ddefb1
DTSTAMP:20240912T220521Z
SUMMARY:Care Mobile\; December - High School
LOCATION:High School
URL;VALUE=URI:https://www.steelvalleysd.org/communication/calendar/6517849/
 care-mobile-october-high-school
DTSTART:20241209T143000Z
DTEND:20241209T190000Z
END:VEVENT
END:VCALENDAR
