BEGIN:VCALENDAR
VERSION:2.0
PRODID:SchoolNow
CALSCALE:GREGORIAN
BEGIN:VEVENT
UID:da2d0f42-6a5a-11ef-9650-0a58a9feac02
DTSTAMP:20240912T220504Z
SUMMARY:Care Mobile\; November - High School
LOCATION:High School
URL;VALUE=URI:https://www.steelvalleysd.org/communication/calendar/6517848/
 care-mobile-september-high-school-clone
DTSTART:20241111T143000Z
DTEND:20241111T190000Z
END:VEVENT
END:VCALENDAR
