BEGIN:VCALENDAR
VERSION:2.0
PRODID:SchoolNow
CALSCALE:GREGORIAN
BEGIN:VEVENT
UID:b5668454-6a5a-11ef-bd14-0a58a9feac02
DTSTAMP:20240912T220442Z
SUMMARY:Care Mobile\; October - High School
LOCATION:High School
URL;VALUE=URI:https://www.steelvalleysd.org/communication/calendar/6517847/
 care-mobile-september-high-school
DTSTART:20241014T133000Z
DTEND:20241014T180000Z
END:VEVENT
END:VCALENDAR
