BEGIN:VCALENDAR
VERSION:2.0
PRODID:SchoolNow
CALSCALE:GREGORIAN
BEGIN:VEVENT
UID:7e8318ca-60ba-11ef-9958-0286f8563493
DTSTAMP:20240822T191706Z
SUMMARY:Care Mobile August  -  HS
LOCATION:Steel Valley High School
URL;VALUE=URI:https://www.steelvalleysd.org/communication/calendar/6443907/
 care-mobile-june-hs-clone
DTSTART:20240829T133000Z
DTEND:20240829T180000Z
END:VEVENT
END:VCALENDAR
