BEGIN:VCALENDAR
VERSION:2.0
PRODID:SchoolNow
CALSCALE:GREGORIAN
BEGIN:VEVENT
UID:486cae52-4ed8-11ef-9ac2-0efb67d14bd9
DTSTAMP:20240731T010030Z
SUMMARY:High School - Meet the Principal Night
URL;VALUE=URI:https://www.steelvalleysd.org/communication/calendar/6331606/
 high-school-meet-the-principal-night
DTSTART:20240814T220000Z
DTEND:20240814T230000Z
END:VEVENT
END:VCALENDAR
