BEGIN:VCALENDAR
VERSION:2.0
PRODID:SchoolNow
CALSCALE:GREGORIAN
BEGIN:VEVENT
UID:20a4e042-4ed8-11ef-9ac6-0e48ada4ff3f
DTSTAMP:20240731T005948Z
SUMMARY:Middle School - Meet the Principal Night
LOCATION:Steel Valley Middle School
URL;VALUE=URI:https://www.steelvalleysd.org/communication/calendar/6331603/
 middle-school-meet-the-principal-night
DTSTART:20240813T220000Z
DTEND:20240813T230000Z
END:VEVENT
END:VCALENDAR
