BEGIN:VCALENDAR
VERSION:2.0
PRODID:SchoolNow
CALSCALE:GREGORIAN
BEGIN:VEVENT
UID:baceb810-4eaa-11ef-a60a-0a58a9feac02
DTSTAMP:20240730T193425Z
SUMMARY:Winter Break
LOCATION:Steel Valley School District
URL;VALUE=URI:https://www.steelvalleysd.org/communication/calendar/6329645/
 winter-break
DTSTART:20241223T130000Z
DTEND:20250103T210000Z
END:VEVENT
END:VCALENDAR
