BEGIN:VCALENDAR
VERSION:2.0
PRODID:SchoolNow
CALSCALE:GREGORIAN
BEGIN:VEVENT
UID:5385d97c-4eaa-11ef-a3f8-0a58a9feac02
DTSTAMP:20240730T193132Z
SUMMARY:Thanksgiving Break
LOCATION:Steel Valley School District
URL;VALUE=URI:https://www.steelvalleysd.org/communication/calendar/6329639/
 thanksgiving-break
DTSTART;VALUE=DATE:20241128
DTEND;VALUE=DATE:20241203
END:VEVENT
END:VCALENDAR
