BEGIN:VCALENDAR
VERSION:2.0
PRODID:SchoolNow
CALSCALE:GREGORIAN
BEGIN:VEVENT
UID:f51a9cac-4ea8-11ef-b49f-0efe57c74c83
DTSTAMP:20240819T144703Z
SUMMARY:Transition Day Report (K\, 5th & 9th):
LOCATION:Steel Valley School District
URL;VALUE=URI:https://www.steelvalleysd.org/communication/calendar/6329622/
 transition-day-report-k-5th-9th
DTSTART:20240822T120000Z
DTEND:20240822T200000Z
END:VEVENT
END:VCALENDAR
