BEGIN:VCALENDAR
VERSION:2.0
PRODID:SchoolNow
CALSCALE:GREGORIAN
BEGIN:VEVENT
UID:013a657c-4ea8-11ef-87b4-0e48ada4ff3f
DTSTAMP:20250530T155924Z
SUMMARY:Steel Valley’s 2025 Commencement
LOCATION:Steel Valley High School Auditorium
URL;VALUE=URI:https://www.steelvalleysd.org/communication/calendar/6329621/
 sv-2023-commencement-clone
DTSTART:20250530T230000Z
DTEND:20250531T010000Z
END:VEVENT
END:VCALENDAR
