BEGIN:VCALENDAR
VERSION:2.0
PRODID:SchoolNow
CALSCALE:GREGORIAN
BEGIN:VEVENT
UID:396267ac-4ea7-11ef-b1e9-02c8b501649b
DTSTAMP:20240730T190920Z
SUMMARY:Reports Cards
LOCATION:Steel Valley School District
URL;VALUE=URI:https://www.steelvalleysd.org/communication/calendar/6329615/
 reports-cards
DTSTART:20241030T100000Z
DTEND:20241030T190000Z
END:VEVENT
END:VCALENDAR
