BEGIN:VCALENDAR
VERSION:2.0
PRODID:SchoolNow
CALSCALE:GREGORIAN
BEGIN:VEVENT
UID:e623931e-4ea5-11ef-8e22-02c8b501649b
DTSTAMP:20241025T033544Z
SUMMARY:Clerical Day
LOCATION:Steel Valley School District
URL;VALUE=URI:https://www.steelvalleysd.org/communication/calendar/6329568/
 clerical-day
DTSTART;VALUE=DATE:20241028
DTEND;VALUE=DATE:20241029
END:VEVENT
END:VCALENDAR
