BEGIN:VCALENDAR
VERSION:2.0
PRODID:SchoolNow
CALSCALE:GREGORIAN
BEGIN:VEVENT
UID:a2f90098-4ea4-11ef-82e6-02c6f16bd771
DTSTAMP:20240730T190545Z
SUMMARY:Early Dismissal for Students
LOCATION:Steel Valley School District
URL;VALUE=URI:https://www.steelvalleysd.org/communication/calendar/6329565/
 early-dismissal-for-students
DTSTART:20240904T120000Z
DTEND:20240904T200000Z
END:VEVENT
END:VCALENDAR
