BEGIN:VCALENDAR
VERSION:2.0
PRODID:SchoolNow
CALSCALE:GREGORIAN
BEGIN:VEVENT
UID:ebad04d0-4e98-11ef-afa4-02c8b501649b
DTSTAMP:20240730T172656Z
SUMMARY:Park  Elementary - Kindergarten Transition Day
LOCATION:Park Elementary
URL;VALUE=URI:https://www.steelvalleysd.org/communication/calendar/6329541/
 park-elementary-meet-the-principal-night-clone
DTSTART:20240822T120000Z
DTEND:20240822T161500Z
END:VEVENT
END:VCALENDAR
