BEGIN:VCALENDAR
VERSION:2.0
PRODID:SchoolNow
CALSCALE:GREGORIAN
BEGIN:VEVENT
UID:fedb7d14-0c9b-11ef-9729-0a58a9feac02
DTSTAMP:20240507T180240Z
SUMMARY:5th - 6th Grade Spring Band Concert
URL;VALUE=URI:https://www.steelvalleysd.org/communication/calendar/5929801/
 5th-6th-grade-spring-band-concert
DTSTART:20240521T223000Z
DTEND:20240521T233000Z
END:VEVENT
END:VCALENDAR
