BEGIN:VCALENDAR
VERSION:2.0
PRODID:SchoolNow
CALSCALE:GREGORIAN
BEGIN:VEVENT
UID:cd88774e-0c9b-11ef-9ce7-0e2d74697af7
DTSTAMP:20240507T180117Z
SUMMARY:7th - 12th Grade Spring Band/Chorus
URL;VALUE=URI:https://www.steelvalleysd.org/communication/calendar/5929796/
 7th-12th-grade-spring-band-chorus
DTSTART:20240508T223000Z
DTEND:20240508T233000Z
END:VEVENT
END:VCALENDAR
