BEGIN:VCALENDAR
VERSION:2.0
PRODID:SchoolNow
CALSCALE:GREGORIAN
BEGIN:VEVENT
UID:b6ee9ba8-019c-11ef-af28-0a58a9feac02
DTSTAMP:20240423T182704Z
SUMMARY:2024 - 25 School Year Physicals Forms Due
LOCATION:Athletic Office
URL;VALUE=URI:https://www.steelvalleysd.org/communication/calendar/5843249/
 2024-25-school-year-physicals
DTSTART:20240501T110000Z
DTEND:20240501T200000Z
END:VEVENT
END:VCALENDAR
