BEGIN:VCALENDAR
VERSION:2.0
PRODID:SchoolNow
CALSCALE:GREGORIAN
BEGIN:VEVENT
UID:fc715e8a-fc02-11ee-833e-0affe4a32401
DTSTAMP:20240416T150705Z
SUMMARY:Last Day Kennywood Discount
URL;VALUE=URI:https://www.steelvalleysd.org/communication/calendar/5796061/
 last-day-kennywood-discount
DTSTART:20240430T110300Z
DTEND:20240501T035500Z
END:VEVENT
END:VCALENDAR
