BEGIN:VCALENDAR
VERSION:2.0
PRODID:SchoolNow
CALSCALE:GREGORIAN
BEGIN:VEVENT
UID:941f6c7a-f697-11ee-94a3-0ef927366aed
DTSTAMP:20240409T173538Z
SUMMARY:Progress Reports
LOCATION:Steel Valley School District
URL;VALUE=URI:https://www.steelvalleysd.org/communication/calendar/5745883/
 progress-reports-clone
DTSTART:20240423T100000Z
DTEND:20240430T190000Z
END:VEVENT
END:VCALENDAR
