BEGIN:VCALENDAR
VERSION:2.0
PRODID:SchoolNow
CALSCALE:GREGORIAN
BEGIN:VEVENT
UID:4ab7ef58-f697-11ee-bb4a-0a58a9feac02
DTSTAMP:20240409T173334Z
SUMMARY:Memorial Day
LOCATION:Steel Valley School District
URL;VALUE=URI:https://www.steelvalleysd.org/communication/calendar/5745880/
 memorial-day
DTSTART:20240527T040000Z
DTEND:20240527T160000Z
END:VEVENT
END:VCALENDAR
