BEGIN:VCALENDAR
VERSION:2.0
PRODID:SchoolNow
CALSCALE:GREGORIAN
BEGIN:VEVENT
UID:eb9b55f0-f696-11ee-bf4a-0a58a9feac02
DTSTAMP:20240409T173055Z
SUMMARY:Last Day of School
LOCATION:Steel Valley School District
URL;VALUE=URI:https://www.steelvalleysd.org/communication/calendar/5745879/
 last-day-of-school
DTSTART:20240529T110000Z
DTEND:20240529T200000Z
END:VEVENT
END:VCALENDAR
