BEGIN:VCALENDAR
VERSION:2.0
PRODID:SchoolNow
CALSCALE:GREGORIAN
BEGIN:VEVENT
UID:d3defb88-f696-11ee-9150-025748890c9f
DTSTAMP:20240409T173858Z
SUMMARY:Commencement
LOCATION:Steel Valley School District  / William V. Campbell Athletic Field
URL;VALUE=URI:https://www.steelvalleysd.org/communication/calendar/5745878/
 commencement
DTSTART:20240529T150000Z
DTEND:20240530T000000Z
END:VEVENT
END:VCALENDAR
