BEGIN:VCALENDAR
VERSION:2.0
PRODID:SchoolNow
CALSCALE:GREGORIAN
BEGIN:VEVENT
UID:e99bc6c4-f1e4-11ee-a252-0ef927366aed
DTSTAMP:20240403T180940Z
SUMMARY:Athletic Physicals
LOCATION:Steel Valley School District
URL;VALUE=URI:https://www.steelvalleysd.org/communication/calendar/5699504/
 athletic-physicals
DTSTART:20240513T110000Z
DTEND:20240513T200000Z
END:VEVENT
END:VCALENDAR
