BEGIN:VCALENDAR
VERSION:2.0
PRODID:SchoolNow
CALSCALE:GREGORIAN
BEGIN:VEVENT
UID:d78d7acc-f1e4-11ee-a286-0a58a9feac02
DTSTAMP:20240403T180918Z
SUMMARY:Athletic Physicals
LOCATION:Steel Valley School District
URL;VALUE=URI:https://www.steelvalleysd.org/communication/calendar/5699503/
 athletic-physicals
DTSTART:20240510T110000Z
DTEND:20240510T200000Z
END:VEVENT
END:VCALENDAR
