BEGIN:VCALENDAR
VERSION:2.0
PRODID:SchoolNow
CALSCALE:GREGORIAN
BEGIN:VEVENT
UID:b5e3fcfc-f1e4-11ee-90e1-0a58a9feac02
DTSTAMP:20240423T182848Z
SUMMARY:Athletic Physicals
DESCRIPTION:Athletic Physicals will be held on the following Dates:  May 6\
 , 10\, 13
LOCATION:Steel Valley School District
URL;VALUE=URI:https://www.steelvalleysd.org/communication/calendar/5699499/
 athletic-physicals
DTSTART:20240506T110000Z
DTEND:20240506T200000Z
END:VEVENT
END:VCALENDAR
