BEGIN:VCALENDAR
VERSION:2.0
PRODID:SchoolNow
CALSCALE:GREGORIAN
BEGIN:VEVENT
UID:be06f1f2-ebcf-11ee-b748-0a58a9feac02
DTSTAMP:20240327T002607Z
SUMMARY:SV Apparel on Sale
URL;VALUE=URI:https://www.steelvalleysd.org/communication/calendar/5639939/
 sv-apparel-on-sale
DTSTART:20240326T201100Z
DTEND:20240405T211100Z
END:VEVENT
END:VCALENDAR
