BEGIN:VCALENDAR
VERSION:2.0
PRODID:SchoolNow
CALSCALE:GREGORIAN
BEGIN:VEVENT
UID:d9aa3266-e6d4-11ee-a316-0a58a9feac02
DTSTAMP:20240320T161537Z
SUMMARY:Early Dismissal for Students
LOCATION:Steel Valley School District
URL;VALUE=URI:https://www.steelvalleysd.org/communication/calendar/5590661/
 early-dismissal
DTSTART:20240408T110000Z
DTEND:20240408T170000Z
END:VEVENT
END:VCALENDAR
