BEGIN:VCALENDAR
VERSION:2.0
PRODID:SchoolNow
CALSCALE:GREGORIAN
BEGIN:VEVENT
UID:5f38ab9e-da71-11ee-b053-0affdb44b737
DTSTAMP:20240304T215135Z
SUMMARY:Matilda: The Musical
LOCATION:Steel Valley HS Auditorium
URL;VALUE=URI:https://www.steelvalleysd.org/communication/calendar/5465118/
 matilda-the-musical
DTSTART:20240317T180000Z
DTEND:20240317T200000Z
END:VEVENT
END:VCALENDAR
