BEGIN:VCALENDAR
VERSION:2.0
PRODID:SchoolNow
CALSCALE:GREGORIAN
BEGIN:VEVENT
UID:4b92127e-da71-11ee-a584-0affdb44b737
DTSTAMP:20240304T220554Z
SUMMARY:Matilda: The Musical
LOCATION:Steel Valley HS Auditorium
URL;VALUE=URI:https://www.steelvalleysd.org/communication/calendar/5465117/
 matilda-the-musical
DTSTART:20240314T233000Z
DTEND:20240316T233000Z
END:VEVENT
END:VCALENDAR
