BEGIN:VCALENDAR
VERSION:2.0
PRODID:SchoolNow
CALSCALE:GREGORIAN
BEGIN:VEVENT
UID:576b02e4-d252-11ee-bd46-0a58a9feac02
DTSTAMP:20240223T134919Z
SUMMARY:Spring Break
LOCATION:Steel Valley School District
URL;VALUE=URI:https://www.steelvalleysd.org/communication/calendar/5388021/
 winter-break-clone
DTSTART:20240328T230000Z
DTEND:20240401T200000Z
END:VEVENT
END:VCALENDAR
