BEGIN:VCALENDAR
VERSION:2.0
PRODID:SchoolNow
CALSCALE:GREGORIAN
BEGIN:VEVENT
UID:d010328a-d24f-11ee-8a3f-02f5aba74d27
DTSTAMP:20240223T133113Z
SUMMARY:Act 80 Days
LOCATION:Steel Valley School District
URL;VALUE=URI:https://www.steelvalleysd.org/communication/calendar/5388017/
 act-80-days-clone
DTSTART:20240327T110000Z
DTEND:20240327T200000Z
END:VEVENT
END:VCALENDAR
