BEGIN:VCALENDAR
VERSION:2.0
PRODID:SchoolNow
CALSCALE:GREGORIAN
BEGIN:VEVENT
UID:74c1b480-d24f-11ee-abca-0e8540326cb7
DTSTAMP:20240223T132904Z
SUMMARY:Clerical Day/No School for Students
LOCATION:Steel Valley School District
URL;VALUE=URI:https://www.steelvalleysd.org/communication/calendar/5388012/
 clerical-day-no-school-for-students
DTSTART;VALUE=DATE:20240322
DTEND;VALUE=DATE:20240323
END:VEVENT
END:VCALENDAR
