BEGIN:VCALENDAR
VERSION:2.0
PRODID:SchoolNow
CALSCALE:GREGORIAN
BEGIN:VEVENT
UID:2a1d40c0-d24f-11ee-9138-0a58a9feac02
DTSTAMP:20240223T132634Z
SUMMARY:Report Cards
LOCATION:Steel Valley School District
URL;VALUE=URI:https://www.steelvalleysd.org/communication/calendar/5388008/
 report-cards
DTSTART:20240326T110000Z
DTEND:20240326T200000Z
END:VEVENT
END:VCALENDAR
