BEGIN:VCALENDAR
VERSION:2.0
PRODID:SchoolNow
CALSCALE:GREGORIAN
BEGIN:VEVENT
UID:e65e9f9c-d0e0-11ee-9a48-0ea60e2d450b
DTSTAMP:20240616T212523Z
SUMMARY:Care Mobile\; June - Barrett
LOCATION:Barrett Elementary
URL;VALUE=URI:https://www.steelvalleysd.org/communication/calendar/5375097/
 care-mobile-june-barrett
DTSTART:20240617T130000Z
DTEND:20240617T173000Z
END:VEVENT
END:VCALENDAR
