BEGIN:VCALENDAR
VERSION:2.0
PRODID:SchoolNow
CALSCALE:GREGORIAN
BEGIN:VEVENT
UID:aefe7004-d0e0-11ee-b372-028fda0f6451
DTSTAMP:20240503T185713Z
SUMMARY:Care Mobile\; May - High School
LOCATION:Steel Valley High School
URL;VALUE=URI:https://www.steelvalleysd.org/communication/calendar/5375096/
 care-mobile-may-barrett
DTSTART:20240524T133000Z
DTEND:20240524T180000Z
END:VEVENT
END:VCALENDAR
