BEGIN:VCALENDAR
VERSION:2.0
PRODID:SchoolNow
CALSCALE:GREGORIAN
BEGIN:VEVENT
UID:fdbd35dc-d0df-11ee-a0f2-0a58a9feac02
DTSTAMP:20240221T173814Z
SUMMARY:Care Mobile May 1st -  HS
LOCATION:Steel Valley High School
URL;VALUE=URI:https://www.steelvalleysd.org/communication/calendar/5375091/
 care-mobile-may-1st-hs
DTSTART:20240501T133000Z
DTEND:20240501T180000Z
END:VEVENT
END:VCALENDAR
