BEGIN:VCALENDAR
VERSION:2.0
PRODID:SchoolNow
CALSCALE:GREGORIAN
BEGIN:VEVENT
UID:dffd4502-cb74-11ee-89d7-0a58a9feac02
DTSTAMP:20240214T200852Z
SUMMARY:School Picnic
LOCATION:Kennywood Park
URL;VALUE=URI:https://www.steelvalleysd.org/communication/calendar/5328549/
 school-picnic
DTSTART;VALUE=DATE:20240604
DTEND;VALUE=DATE:20240605
END:VEVENT
END:VCALENDAR
