BEGIN:VCALENDAR
VERSION:2.0
PRODID:SchoolNow
CALSCALE:GREGORIAN
BEGIN:VEVENT
UID:47c68372-c78f-11ee-b7dd-0e3043bec677
DTSTAMP:20240209T210749Z
SUMMARY:Prom Ticket Sale
LOCATION:Steel Valley High School
URL;VALUE=URI:https://www.steelvalleysd.org/communication/calendar/5296133/
 prom-ticket-salr
DTSTART:20240318T200600Z
DTEND:20240325T210600Z
END:VEVENT
END:VCALENDAR
