BEGIN:VCALENDAR
VERSION:2.0
PRODID:SchoolNow
CALSCALE:GREGORIAN
BEGIN:VEVENT
UID:f0f59114-c78e-11ee-b4f6-0ae66dc8c9cd
DTSTAMP:20240209T210523Z
SUMMARY:SVHS Prom 2024
URL;VALUE=URI:https://www.steelvalleysd.org/communication/calendar/5296130/
 svhs-prom-2024
DTSTART:20240503T220000Z
DTEND:20240504T020000Z
ATTACH;FILENAME=Prom Poster 2024.pdf;FMTTYPE=application/pdf:https://campus
 suite-storage.s3.amazonaws.com/prod/1074787/6763d576-3536-11e7-9e05-124f7f
 ebbf4a/2739901/0434bd9a-c78a-11ee-a559-0272d16cf32d/file/Prom Poster 2024.
 pdf
END:VEVENT
END:VCALENDAR
