BEGIN:VCALENDAR
VERSION:2.0
PRODID:SchoolNow
CALSCALE:GREGORIAN
BEGIN:VEVENT
UID:2ac5faea-c78b-11ee-8748-029442dbbd9d
DTSTAMP:20240209T205412Z
SUMMARY:Prom Fundraiser - Selling Popcorn
DESCRIPTION:Prom Fundraiser can Earn a FREE Prom Ticket - February 12th - 2
 9th
LOCATION:Steel Valley High School
URL;VALUE=URI:https://www.steelvalleysd.org/communication/calendar/5296123/
 prom-fundraiser-selling-popcorn
DTSTART;VALUE=DATE:20240209
DTEND;VALUE=DATE:20240301
ATTACH;FILENAME=Prom Fundraiser2024.pdf;FMTTYPE=application/pdf:https://cam
 pussuite-storage.s3.amazonaws.com/prod/1074787/6763d576-3536-11e7-9e05-124
 f7febbf4a/2739898/c43c88d0-c789-11ee-b321-0272d16cf32d/file/Prom Fundraise
 r2024.pdf
END:VEVENT
END:VCALENDAR
