BEGIN:VCALENDAR
VERSION:2.0
PRODID:SchoolNow
CALSCALE:GREGORIAN
BEGIN:VEVENT
UID:ec4f7518-c774-11ee-862b-021caa889781
DTSTAMP:20240209T175908Z
SUMMARY:FAFSA Night Thursday - February 15th
URL;VALUE=URI:https://www.steelvalleysd.org/communication/calendar/5293265/
 fafsa-night-thursday-february-15th
DTSTART:20240215T230000Z
DTEND:20240216T010000Z
END:VEVENT
END:VCALENDAR
