BEGIN:VCALENDAR
VERSION:2.0
PRODID:SchoolNow
CALSCALE:GREGORIAN
BEGIN:VEVENT
UID:4e8a1214-c6db-11ee-abf0-0a81a6e4196f
DTSTAMP:20240208T233942Z
SUMMARY:Wellness Policy Review Meeting
LOCATION:Steel Valley High School - Conference Room
URL;VALUE=URI:https://www.steelvalleysd.org/communication/calendar/5288167/
 wellness-policy-review-meeting
DTSTART:20240213T190000Z
DTEND:20240213T200000Z
END:VEVENT
END:VCALENDAR
